BEGIN:VCALENDAR
VERSION:2.0
PRODID:-//Charles Darwin Events//EN
BEGIN:VEVENT
SUMMARY:Organising your writing 
UID:02049500-5f9f-48c6-8d7d-f4812089019e
DTSTART:20250320T033000Z
DTEND:20250320T050000Z
DTSTAMP:20250207T014318Z
LOCATION:This workshop series is delivered online. 

DESCRIPTION:English4Uni is a series of workshops on the language skills and competencies needed for international HDR students to navigate university-level discourse effectively.
URL:https://www.cdu.edu.au/events/organising-your-writing
END:VEVENT
END:VCALENDAR
