BEGIN:VCALENDAR
VERSION:2.0
PRODID:-//Charles Darwin Events//EN
BEGIN:VEVENT
SUMMARY:Formal, academic tone 
UID:62f0b4eb-b661-4076-9cda-6d500408be43
DTSTART:20250327T033000Z
DTEND:20250327T050000Z
DTSTAMP:20250207T020114Z
LOCATION:This workshop series is delivered online. 

DESCRIPTION:English4Uni is a series of workshops on the language skills and competencies needed for international HDR students to navigate university-level discourse effectively.
URL:https://www.cdu.edu.au/events/formal-academic-tone
END:VEVENT
END:VCALENDAR
