BEGIN:VCALENDAR
VERSION:2.0
PRODID:-//Charles Darwin Events//EN
BEGIN:VEVENT
SUMMARY:Using source information 
UID:05506a21-bf34-4aee-8b8e-4e11c21d8951
DTSTART:20250424T033000Z
DTEND:20250424T050000Z
DTSTAMP:20250207T020550Z
LOCATION:This workshop series is delivered online. 

DESCRIPTION:English4Uni is a series of workshops on the language skills and competencies needed for international HDR students to navigate university-level discourse effectively.
URL:https://www.cdu.edu.au/events/using-source-information
END:VEVENT
END:VCALENDAR
