BEGIN:VCALENDAR
VERSION:2.0
PRODID:-//Charles Darwin Events//EN
BEGIN:VEVENT
SUMMARY:Presenting professionally
UID:bc3498de-60cf-431e-b926-35a1671f1014
DTSTART:20250501T033000Z
DTEND:20250501T050000Z
DTSTAMP:20250207T020933Z
LOCATION:This workshop series is delivered online. 

DESCRIPTION:English4Uni is a series of workshops on the language skills and competencies needed for international HDR students to navigate university-level discourse effectively.
URL:https://www.cdu.edu.au/events/presenting-professionally
END:VEVENT
END:VCALENDAR
