BEGIN:VCALENDAR
VERSION:2.0
PRODID:-//Charles Darwin Events//EN
BEGIN:VEVENT
SUMMARY:Understanding pathways to strong learning in two systems: Yolngu and Balanda
UID:ec0e3e40-cf3f-4223-b7cc-4a62c449a6ef
DTSTART:20250306T010000Z
DTEND:20250306T020000Z
DTSTAMP:20250212T012913Z
LOCATION:Online via Zoom &amp; In-person at:
Northern Institute&#039;s Savanna Room (CDU Casuarina Campus, Yellow 1.2.48)
DESCRIPTION:Guest seminar about the project: Understanding pathways to strong learning in two systems: Yolŋu and Balanda
URL:https://www.cdu.edu.au/northern-institute/engage/northern-institute-events/understanding-pathways-strong-learning-two-systems-yolngu-balanda
END:VEVENT
END:VCALENDAR
