BEGIN:VCALENDAR
VERSION:2.0
PRODID:-//Charles Darwin Events//EN
BEGIN:VEVENT
SUMMARY:Information session for Airport Development Group (ADG) Scholarship
UID:05830937-7e49-49bc-a032-708a5b29bbb8
DTSTART:20250219T013000Z
DTEND:20250219T023000Z
DTSTAMP:20250212T053234Z
LOCATION:Online Teams session
DESCRIPTION:An information session for students to learn more about the Airport Development Group (ADG) at CDU.
URL:https://www.cdu.edu.au/current-students/events/information-session-airport-development-group-adg-scholarship
END:VEVENT
END:VCALENDAR
