BEGIN:VCALENDAR
VERSION:2.0
PRODID:-//Charles Darwin Events//EN
BEGIN:VEVENT
SUMMARY:A Piece of Red Cloth 
UID:e8ae19e2-60bd-4767-a457-6e32c130aafa
DTSTART:20250306T070000Z
DTEND:20250306T080000Z
DTSTAMP:20250221T040915Z
LOCATION:Northern Institute, Savanna Room (Casuarina Campus, Building Yellow 1, Level 2, Room 48)
DESCRIPTION:A book discussion with author Leonie Norrington on her novel A Piece of Red Cloth.
URL:https://www.cdu.edu.au/northern-institute/engage/northern-institute-events/piece-red-cloth
END:VEVENT
END:VCALENDAR
