BEGIN:VCALENDAR
VERSION:2.0
PRODID:-//Charles Darwin Events//EN
BEGIN:VEVENT
SUMMARY:Structuring your thesis [HDR]
UID:33c7608f-da4f-4d6a-9025-14500fe40788
DTSTART:20250226T033000Z
DTEND:20250226T050000Z
DTSTAMP:20250225T012036Z
LOCATION:This is an online event. Event URL will be sent via registration email.

DESCRIPTION:The Structuring Your Thesis [HDR] workshop at Charles Darwin University Library supports Higher Degree by Research (HDR) students in organising their theses effectively. It covers essential aspects of thesis structure, including how to develop a clear and logical framework that enhances readability and showcases research findings. Participants will gain insights into best practices for structuring chapters, maintaining coherence, and ensuring their arguments flow logically. This workshop is particularly beneficial for students in the early to mid-stages of their thesis writing.
URL:https://www.cdu.edu.au/events/structuring-your-thesis-hdr-0
END:VEVENT
END:VCALENDAR
