BEGIN:VCALENDAR
VERSION:2.0
PRODID:-//Charles Darwin Events//EN
BEGIN:VEVENT
SUMMARY:Black Lives, White Law
UID:b1cb9a7e-0e1e-4944-9558-bd86451afa21
DTSTART:20250326T010000Z
DTEND:20250326T020000Z
DTSTAMP:20250304T071619Z
LOCATION:Danala Education and Community Precinct, Festival Learning Space 1.11 (Ground Floor)
DESCRIPTION:Book Seminar and Q&amp;A with Author Russell Marks
URL:https://www.cdu.edu.au/northern-institute/engage/northern-institute-events/black-lives-white-law
END:VEVENT
END:VCALENDAR
