BEGIN:VCALENDAR
VERSION:2.0
PRODID:-//Charles Darwin Events//EN
BEGIN:VEVENT
SUMMARY:Structuring your thesis
UID:5afafeef-87de-47e1-b199-9afb79870d85
DTSTART:20250403T033000Z
DTEND:20250403T050000Z
DTSTAMP:20250305T005900Z
LOCATION:Online
DESCRIPTION:Gain confidence in organising your HDR thesis into a clear, logical structure that effectively showcases your research and findings.
URL:https://www.cdu.edu.au/events/structuring-your-thesis
END:VEVENT
END:VCALENDAR
