BEGIN:VCALENDAR
VERSION:2.0
PRODID:-//Charles Darwin Events//EN
BEGIN:VEVENT
SUMMARY:Annual Aristotle Oration
UID:adefb39e-51e0-401c-b341-cf76c23c592e
DTSTART:20250403T080000Z
DTEND:20250403T100000Z
DTSTAMP:20250305T010826Z
LOCATION:Community Learning Room
Danala | Education and Community Precinct
Charles Darwin University
54 Cavenagh St, Darwin City

DESCRIPTION:The inaugural Guardians of Greek Language and Culture - annual Aristotle Oration
URL:https://www.cdu.edu.au/events/annual-aristotle-oration
END:VEVENT
END:VCALENDAR
