BEGIN:VCALENDAR
VERSION:2.0
PRODID:-//Charles Darwin Events//EN
BEGIN:VEVENT
SUMMARY:Writing a good abstract
UID:15c17ece-7363-4d8d-8ba5-c714f6e08975
DTSTART:20250402T033000Z
DTEND:20250402T053000Z
DTSTAMP:20250305T012159Z
LOCATION:Online
DESCRIPTION:In preparation for the CDU HDR Conference (16-18 July), this workshop will provide you with tips on how to write a concise, engaging and attractive abstract. It covers abstracts in theses and journal articles and examples will be given for analysis and discussion.
URL:https://www.cdu.edu.au/events/writing-good-abstract
END:VEVENT
END:VCALENDAR
