BEGIN:VCALENDAR
VERSION:2.0
PRODID:-//Charles Darwin Events//EN
BEGIN:VEVENT
SUMMARY:Bush Foods, Country and Climate Change 
UID:f1c633ba-211f-4daf-aace-0b48dca686af
DTSTART:20250416T010000Z
DTEND:20250416T020000Z
DTSTAMP:20250407T052106Z
LOCATION:Danala Education and Community Precinct, Festival Learning Space 1.12 (Ground Floor)
DESCRIPTION:Seminar about the research project: ‘Indigenous Truth-Telling: Ethnographic Philosophy on Traditional Foods, Country and Climate Change’
URL:https://www.cdu.edu.au/northern-institute/engage/northern-institute-events/bush-foods-country-climate-change
END:VEVENT
END:VCALENDAR
