BEGIN:VCALENDAR
VERSION:2.0
PRODID:-//Charles Darwin Events//EN
BEGIN:VEVENT
SUMMARY:Public Seminar - Alcohol and Intimate Partner Violence: Centering Women&#039;s Experiences in Prevention
UID:373b91cb-bd90-4a70-8670-7ee4cfcf2712
DTSTART:20250515T030000Z
DTEND:20250515T040000Z
DTSTAMP:20250507T040743Z
LOCATION:Online
DESCRIPTION:In this seminar, Dr Wilson draws on her research with Australian women, as well as global qualitative studies, to centre women's experiences of alcohol-related IPV and the broader impacts of men’s drinking.
URL:https://www.cdu.edu.au/events/public-seminar-alcohol-intimate-partner-violence-centering-womens-experiences-prevention
END:VEVENT
END:VCALENDAR
