BEGIN:VCALENDAR
VERSION:2.0
PRODID:-//Charles Darwin Events//EN
BEGIN:VEVENT
SUMMARY:Master of Public Policy Student Presentations
UID:fea2aa9f-e976-4260-adc8-7f861f97c109
DTSTART:20250515T003000Z
DTEND:20250516T023000Z
DTSTAMP:20250509T031523Z
LOCATION:Northern Institute’s Savanna Room (Casuarina Campus, Building Yellow 1, Level 2, Room 48)
DESCRIPTION:Join us for the NI Master of Public Policy student presentations for May 2025
URL:https://www.cdu.edu.au/northern-institute/engage/northern-institute-events/master-public-policy-student-presentations-0
END:VEVENT
END:VCALENDAR
