BEGIN:VCALENDAR
VERSION:2.0
PRODID:-//Charles Darwin Events//EN
BEGIN:VEVENT
SUMMARY:Guest Lecture - Ethnomusicology: Developing musical instruments from bamboo and gaba-gaba
UID:5c332702-9af4-4fce-b8e9-f186fe61ab98
DTSTART:20250521T023000Z
DTEND:20250521T033000Z
DTSTAMP:20250519T000536Z
LOCATION:CDU Theatre Orange 3, Casuarina Campus
DESCRIPTION:CDU's Academy of the Arts invites CDU staff and students to attend a guest lecture on ethnomusicology by Pak Branckly Picanussa, the Deputy Chancellor of the State Christian Institute of Ambon (IAKN).
URL:https://www.cdu.edu.au/events/guest-lecture-ethnomusicology-developing-musical-instruments-bamboo-gaba-gaba
END:VEVENT
END:VCALENDAR
