BEGIN:VCALENDAR
VERSION:2.0
PRODID:-//Charles Darwin Events//EN
BEGIN:VEVENT
SUMMARY:Darwin Careers Expo
UID:4ab08710-4814-45c1-aaa8-cc930e0d096c
DTSTART:20250811T233000Z
DTEND:20250812T050000Z
DTSTAMP:20250529T023621Z
LOCATION:Territory Netball Stadium, Marrara
Darwin NT
DESCRIPTION:🎓 Discover Your Future with Charles Darwin University!
Join CDU at the Darwin Careers Expo and explore how we can help you shape a bold and brilliant future.&nbsp;
Meet our team, dive into hands-on experiences, and find the course that’s right for you.&nbsp;
Whether you're finishing school or looking to upskill, CDU is your launchpad to success.
URL:https://www.cdu.edu.au/events/darwin-careers-expo
END:VEVENT
END:VCALENDAR
