BEGIN:VCALENDAR
VERSION:2.0
PRODID:-//Charles Darwin Events//EN
BEGIN:VEVENT
SUMMARY:TEDxCharles Darwin University
UID:99ea26e8-30ae-4372-a4c1-aa4a2adb4490
DTSTART:20250809T080000Z
DTEND:20250809T110000Z
DTSTAMP:20250703T010834Z
LOCATION:Darwin City, Danala | Education and Community Precinct 
DESCRIPTION:TEDxCharles Darwin University is an independently organised TED event designed to spark deep discussion, share powerful ideas, and showcase inspiring voices from the Northern Territory and beyond. The event brings together thought leaders, storytellers, researchers, and community members to explore topics that matter to our region and the world. This year’s TEDx theme is ‘building community resilience’, exploring the big ideas to better our communities.
URL:https://www.cdu.edu.au/events/tedxcharles-darwin-university
END:VEVENT
END:VCALENDAR
