BEGIN:VCALENDAR
VERSION:2.0
PRODID:-//Charles Darwin Events//EN
BEGIN:VEVENT
SUMMARY:Public Screening: MILKUM GA WALŊA pattern, camera, life
UID:8226f748-8b81-41dc-8528-f863061dcc71
DTSTART:20250930T084500Z
DTEND:20250930T101500Z
DTSTAMP:20250704T053335Z
LOCATION:Danala | Midpul Gallery
DESCRIPTION:Miyarrka Media presents Paul Gurrumuruwuy's last creative work
URL:https://www.cdu.edu.au/events/public-screening-milkum-ga-wal%C5%8Ba-pattern-camera-life
END:VEVENT
END:VCALENDAR
