BEGIN:VCALENDAR
VERSION:2.0
PRODID:-//Charles Darwin Events//EN
BEGIN:VEVENT
SUMMARY:Age-friendly cities and sustainability
UID:437c78e7-e252-4fab-ab7b-9775c116f44a
DTSTART:20250716T010000Z
DTEND:20250716T020000Z
DTSTAMP:20250704T070850Z
LOCATION:Room 7, Level 3, Danala Education and Community Precinct
DESCRIPTION:Visiting Academic Seminar on sustainable cities for aging generations
URL:https://www.cdu.edu.au/northern-institute/engage/northern-institute-events/age-friendly-cities-sustainability
END:VEVENT
END:VCALENDAR
