BEGIN:VCALENDAR
VERSION:2.0
PRODID:-//Charles Darwin Events//EN
BEGIN:VEVENT
SUMMARY:Alumni webinar: Not in the textbook - Being the only woman on site
UID:8aea03e8-4d86-45eb-916f-0ea1435f5043
DTSTART:20250717T040000Z
DTEND:20250717T043000Z
DTSTAMP:20250709T040616Z
LOCATION:Online via zoom:
https://charlesdarwinuni.zoom.us/meeting/register/pDxUa7QWRoSKXJcRb4ycMA
DESCRIPTION:Join us for our second webinar, 'Being the only woman on site' with CDU alumna Sarah Brunton, class of 2018 and 2020.
URL:https://www.cdu.edu.au/events/alumni-webinar-not-textbook-being-only-woman-site
END:VEVENT
END:VCALENDAR
