BEGIN:VCALENDAR
VERSION:2.0
PRODID:-//Charles Darwin Events//EN
BEGIN:VEVENT
SUMMARY:Alumni webinar: Not in the textbook - Navigating the transition from University to Corporate
UID:e642a5d6-6c89-4be5-b1b9-0fd99006708f
DTSTART:20250710T030000Z
DTEND:20250710T033000Z
DTSTAMP:20250709T042136Z
LOCATION:Online via zoom:
https://charlesdarwinuni.zoom.us/meeting/register/59Hog5kaSdm6-Nt9Y9QChA
DESCRIPTION:Join us for the first session in this insightful webinar series, 'Navigating the Transition from University to Corporate' with CDU alumnus Robert Penaloza, Class of 1995.
URL:https://www.cdu.edu.au/events/alumni-webinar-not-textbook-navigating-transition-university-corporate
END:VEVENT
END:VCALENDAR
