BEGIN:VCALENDAR
VERSION:2.0
PRODID:-//Charles Darwin Events//EN
BEGIN:VEVENT
SUMMARY:Alumni webinar: Not in the textbook - Turning passion into impact
UID:3f6e08f9-2352-4ef3-96cd-439abde2cc00
DTSTART:20250724T013000Z
DTEND:20250724T020000Z
DTSTAMP:20250716T235229Z
LOCATION:Online via zoom:
https://charlesdarwinuni.zoom.us/meeting/register/jXJeIfdPTR2dTRbKWhF68g
DESCRIPTION:Join us for our third webinar in this series, Turning passion into impact, with CDU alumnus Ryan Chapman, class of 2024.
URL:https://www.cdu.edu.au/events/alumni-webinar-not-textbook-turning-passion-impact
END:VEVENT
END:VCALENDAR
