BEGIN:VCALENDAR
VERSION:2.0
PRODID:-//Charles Darwin Events//EN
BEGIN:VEVENT
SUMMARY:Webinar: Not in the textbook - Balancing life and big dreams
UID:59ab5b8e-fa8d-440b-aeab-4671045275f7
DTSTART:20250731T013000Z
DTEND:20250731T020000Z
DTSTAMP:20250717T000704Z
LOCATION:Online via Zoom:
https://charlesdarwinuni.zoom.us/meeting/register/EKSuYNwWRy-KjD7iDMAHXQ
DESCRIPTION:Join us for our fourth and final webinar in this series, 'Balancing life and big dreams' with CDU alumna Zarah Tenorio-Ramoso, class of 2021.
URL:https://www.cdu.edu.au/events/webinar-not-textbook-balancing-life-big-dreams
END:VEVENT
END:VCALENDAR
