BEGIN:VCALENDAR
VERSION:2.0
PRODID:-//Charles Darwin Events//EN
BEGIN:VEVENT
SUMMARY:Information Session CDU Nursing and Midwifery
UID:3fffb51e-6ef4-47bb-88ce-a37249c14806
DTSTART:20250807T073000Z
DTEND:20250807T093000Z
DTSTAMP:20250717T225608Z
LOCATION:CDU Brisbane Centre, Level 10, 410 Ann Street, Brisbane, QLD, 4000
DESCRIPTION:Do you live in Queensland? Are you interested in studying Nursing or Midwifery with CDU?
URL:https://www.cdu.edu.au/events/information-session-cdu-nursing-midwifery
END:VEVENT
END:VCALENDAR
