BEGIN:VCALENDAR
VERSION:2.0
PRODID:-//Charles Darwin Events//EN
BEGIN:VEVENT
SUMMARY:Informing conservation planning for threatened river sharks
UID:948c0e31-96ab-44c9-bf3a-e287854a8854
DTSTART:20250828T234500Z
DTEND:20250829T004500Z
DTSTAMP:20250717T230853Z
LOCATION:Yellow 1, Level 2, Room 48 at CDU Casuarina Campus, and online via Zoom (see below for Zoom link). All times are ACST.
DESCRIPTION:Join CDU phD candidate Julia Constance exploring the Northern Territory's river sharks—the Northern River Shark (Glyphis garricki) and the Speartooth Shark (G. glyphis)
URL:https://www.cdu.edu.au/riel/events/riel-past-events/informing-conservation-planning-threatened-river-sharks
END:VEVENT
END:VCALENDAR
