BEGIN:VCALENDAR
VERSION:2.0
PRODID:-//Charles Darwin Events//EN
BEGIN:VEVENT
SUMMARY:Remote Research Impact Workshop
UID:ad3f9e7e-46af-474f-92c8-bf1c312c63a3
DTSTART:20251007T033000Z
DTEND:20251007T073000Z
DTSTAMP:20250718T002045Z
LOCATION:Alice Springs Convention Centre, 93 Barrett Drive Alice Springs 0870
DESCRIPTION:Workshop exploring how to conduct culturally safe research with remote Aboriginal and Torres Strait Islander communities and organisations in Central and remote Australia.
URL:https://www.cdu.edu.au/events/remote-research-impact-workshop
END:VEVENT
END:VCALENDAR
