BEGIN:VCALENDAR
VERSION:2.0
PRODID:-//Charles Darwin Events//EN
BEGIN:VEVENT
SUMMARY:An eDNA/Omics Strategy for the Ranger Uranium Mine 
UID:33056730-b19e-4522-9a80-9da291a8c7f1
DTSTART:20250911T234500Z
DTEND:20250912T004500Z
DTSTAMP:20250720T234914Z
LOCATION:Yellow 1, Level 2, Room 48 at CDU Casuarina Campus, and online via Zoom. All times are ACST.
DESCRIPTION:Improving efficiency, scalability, and safety using the OSS omics strategy, integrating tools like iDNA and eDNA, genomics, and metabolomics into existing chemical, biological, and radiological monitoring at the Ranger Uranium Mine.
URL:https://www.cdu.edu.au/riel/events/riel-past-events/ednaomics-strategy-ranger-uranium-mine
END:VEVENT
END:VCALENDAR
