BEGIN:VCALENDAR
VERSION:2.0
PRODID:-//Charles Darwin Events//EN
BEGIN:VEVENT
SUMMARY:Ways to get community to reflect on drinking or drug use
UID:ef771840-7330-4ed4-b060-b63cc3d90e42
DTSTART:20250805T020000Z
DTEND:20250805T030000Z
DTSTAMP:20250721T064742Z
LOCATION:
DESCRIPTION:Molly Institute Seminar Series Event Page for: Ways to get the community to reflect on drinking or drug use
URL:https://www.cdu.edu.au/events/ways-get-community-reflect-drinking-or-drug-use
END:VEVENT
END:VCALENDAR
