BEGIN:VCALENDAR
VERSION:2.0
PRODID:-//Charles Darwin Events//EN
BEGIN:VEVENT
SUMMARY:We need our own anthropologist 
UID:f296cde5-b43a-4285-9edf-8ccee3a8605b
DTSTART:20250801T010000Z
DTEND:20250801T020000Z
DTSTAMP:20250730T021604Z
LOCATION:Level 4, Room 16
DESCRIPTION:Event page for PPP Seminar Sam August
URL:https://www.cdu.edu.au/northern-institute/engage/northern-institute-events/we-need-our-own-anthropologist
END:VEVENT
END:VCALENDAR
