BEGIN:VCALENDAR
VERSION:2.0
PRODID:-//Charles Darwin Events//EN
BEGIN:VEVENT
SUMMARY:Yirrim Trubala Symposium
UID:7d2bd72a-2610-490d-965b-e2c0acf5f8b0
DTSTART:20251127T234500Z
DTEND:20251128T073000Z
DTSTAMP:20250807T002929Z
LOCATION:Danala | Education and Community Precinct
DESCRIPTION:Academic and community leaders will present topics including but not limited to the Australian Wars, Justice, Policing, Policy &amp; Legislation, Heritage, and Narratives &amp; Story-Telling.
URL:https://www.cdu.edu.au/events/yirrim-trubala-symposium
END:VEVENT
END:VCALENDAR
