BEGIN:VCALENDAR
VERSION:2.0
PRODID:-//Charles Darwin Events//EN
BEGIN:VEVENT
SUMMARY:The role of remote sensing in the nature repair market
UID:ff59d129-bd58-4145-af1a-22eef88e955e
DTSTART:20251009T234500Z
DTEND:20251010T004500Z
DTSTAMP:20250821T003558Z
LOCATION:Yellow 1, Level 2, Room 48 at CDU Casuarina Campus, and online via Zoom (see below for Zoom link).
All times are ACST.

DESCRIPTION:Dr. Richard Crabbe, an Earth observation scientist at Charles Darwin University, will present a seminar on how remote sensing, using drones and satellites, can assist with vegetation monitoring and biodiversity management in Indigenous Protected Areas in Western Australia's Kimberley region.
URL:https://www.cdu.edu.au/riel/events/remote-sensing-nature-repair-seminar
END:VEVENT
END:VCALENDAR
