BEGIN:VCALENDAR
VERSION:2.0
PRODID:-//Charles Darwin Events//EN
BEGIN:VEVENT
SUMMARY:Negotiating Culturally Safe Research Practices
UID:3bde4006-99a1-475e-92e1-58161d88b32c
DTSTART:20260624T000000Z
DTEND:20260624T023000Z
DTSTAMP:20250822T050053Z
LOCATION:Red9 Training 1.45
DESCRIPTION:Learn how to embed cultural safety and responsibility into your research from the ground up — essential knowledge for conducting inclusive and impactful research. Explore strategies for respectful and ethical engagement with First Nations communities and participants.
URL:https://www.cdu.edu.au/research-and-innovation/research-innovation-events/negotiating-culturally-safe-research-practices
END:VEVENT
END:VCALENDAR
