BEGIN:VCALENDAR
VERSION:2.0
PRODID:-//Charles Darwin Events//EN
BEGIN:VEVENT
SUMMARY:Writing Effective Participant Information Sheets, Distress Protocols &amp; Risk Assessments
UID:14fca415-6c3e-473c-be72-7cf81d6479a4
DTSTART:20251029T003000Z
DTEND:20251029T023000Z
DTSTAMP:20250822T052817Z
LOCATION:Red9 Seminar 1.48
DESCRIPTION:Craft clear, ethical, and participant-friendly research documentation.
URL:https://www.cdu.edu.au/research-and-innovation/research-innovation-events/writing-effective-participant-information-sheets-distress-protocols-risk-assessments
END:VEVENT
END:VCALENDAR
