BEGIN:VCALENDAR
VERSION:2.0
PRODID:-//Charles Darwin Events//EN
BEGIN:VEVENT
SUMMARY:Chinese cultural handicrafts for kids
UID:bdf93d54-4738-4d32-8c11-89c920f2fc54
DTSTART:20260127T073000Z
DTEND:20260127T083000Z
DTSTAMP:20250908T055919Z
LOCATION:CDU Casuarina campus, Orange 2, Level 4, Room 24, CDU Confucius Institute Meeting Room
DESCRIPTION:CDU CI presents a warm and educational handicraft workshop where children learn simple Chinese cultural traditions and create their own unique artworks. Join us for an inspiring cultural experience.
URL:https://www.cdu.edu.au/confucius-institute/events/chinese-cultural-handicrafts-kids
END:VEVENT
END:VCALENDAR
