BEGIN:VCALENDAR
VERSION:2.0
PRODID:-//Charles Darwin Events//EN
BEGIN:VEVENT
SUMMARY:CDU Alumni Awards Gala 2025
UID:a7cae67e-911e-4306-8d15-748001321ae9
DTSTART:20251024T083000Z
DTEND:20251024T133000Z
DTSTAMP:20250910T050437Z
LOCATION:Darwin Convention Centre
DESCRIPTION:This unforgettable evening will bring together CDU alumni, staff, industry partners, and friends to celebrate the remarkable achievements of our graduates from around the world.
URL:https://www.cdu.edu.au/events/cdu-alumni-awards-gala-2025
END:VEVENT
END:VCALENDAR
