BEGIN:VCALENDAR
VERSION:2.0
PRODID:-//Charles Darwin Events//EN
BEGIN:VEVENT
SUMMARY:Improved fire management and ecosystem services
UID:6114c574-96f6-429d-979d-06a320ddb082
DTSTART:20251106T234500Z
DTEND:20251107T004500Z
DTSTAMP:20250919T063109Z
LOCATION:Yellow 1, Level 2, Room 48 at CDU Casuarina Campus, and online via Zoom (see below for Zoom link). All times are ACST.
DESCRIPTION:Jeremy Russell-Smith is a research director and professor at Charles Darwin University who has led the Darwin Centre for Bushfire Research since 1997, focusing on developing tools and research for improved fire management and land manager livelihoods across Northern Australia.
URL:https://www.cdu.edu.au/events/fire-management-seminar
END:VEVENT
END:VCALENDAR
