BEGIN:VCALENDAR
VERSION:2.0
PRODID:-//Charles Darwin Events//EN
BEGIN:VEVENT
SUMMARY:Simplifying Summer Semester
UID:c73c5ebe-457f-4cbf-a2b7-835e29527414
DTSTART:20251023T073000Z
DTEND:20251023T080000Z
DTSTAMP:20251007T231745Z
LOCATION:Webinar
DESCRIPTION:Warm up to study with CDU’s Summer Semester! Join our webinar to find out more.
URL:https://www.cdu.edu.au/events/simplifying-summer-semester
END:VEVENT
END:VCALENDAR
