BEGIN:VCALENDAR
VERSION:2.0
PRODID:-//Charles Darwin Events//EN
BEGIN:VEVENT
SUMMARY:CDU Public Lecture on Trade Nationalism and Global Order
UID:c0594855-2b84-41e8-8f37-4e9e6159a614
DTSTART:20251030T073000Z
DTEND:20251030T093000Z
DTSTAMP:20251024T010011Z
LOCATION:Darwin City &gt; Darwin City &gt; Level 1 &gt; Community Learning Room 1.01
DESCRIPTION:CDU is hosting a public lecture by Professor Rakesh Gupta on the impact of Trump's trade nationalism. The lecture will be followed by a panel discussion with industry specialists about the future of international trade and cooperation.
URL:https://www.cdu.edu.au/cdu-public-lecture-trade-nationalism-global-order
END:VEVENT
END:VCALENDAR
