BEGIN:VCALENDAR
VERSION:2.0
PRODID:-//Charles Darwin Events//EN
BEGIN:VEVENT
SUMMARY:Purpose: A Wellbeing Economies Film screening + panel discussion with food from Arthouse Cafe
UID:cbf00c35-ec6e-4b47-b746-638a537dca2f
DTSTART:20251030T080000Z
DTEND:20251030T110000Z
DTSTAMP:20251024T030253Z
LOCATION:CDU Casuarina Campus, Building Blue 5.1
DESCRIPTION:Join us for a screening of the documentary 'Purpose: A Wellbeing Economies film'. The event explores new economic systems and includes a panel discussion with politicians and the film's protagonist, with tickets available from $6.
URL:https://www.cdu.edu.au/purpose-wellbeing-economies-film-screening-panel-discussion-food-arthouse-cafe
END:VEVENT
END:VCALENDAR
