BEGIN:VCALENDAR
VERSION:2.0
PRODID:-//Charles Darwin Events//EN
BEGIN:VEVENT
SUMMARY:Australian CBRN Health Systems Preparedness and Governance
UID:f18c820e-4b2e-4d69-9cfe-8998311ef497
DTSTART:20251126T010000Z
DTEND:20251126T020000Z
DTSTAMP:20251031T055518Z
LOCATION:Red 9.1.48 (Menzies), CDU Casuarina, Ellengowan Dr, Brinkin NT 0810
DESCRIPTION:Join Erica van Ash to learn more about Australian CBRN Health Systems Preparedness and Governance on Wednesday, 26 November 2025.
URL:https://www.cdu.edu.au/northern-institute/engage/northern-institute-events/australian-cbrn-health-systems-preparedness-governance
END:VEVENT
END:VCALENDAR
