BEGIN:VCALENDAR
VERSION:2.0
PRODID:-//Charles Darwin Events//EN
BEGIN:VEVENT
SUMMARY:Greek Language Attainment Awards 
UID:d0890322-11c2-4c59-bb4d-0dc8aef29f7e
DTSTART:20251112T090000Z
DTEND:20251112T110000Z
DTSTAMP:20251103T063218Z
LOCATION:Casuarina Blue 05.1.01 - Lecture Theatre
DESCRIPTION:A celebration of diverse cultures, featuring multilingual poetry and artistic expression. The evening is open to all and will also include the presentation of the Greek Language Attainment Awards.
URL:https://www.cdu.edu.au/arts-society/events/greek-language-attainment-awards
END:VEVENT
END:VCALENDAR
