BEGIN:VCALENDAR
VERSION:2.0
PRODID:-//Charles Darwin Events//EN
BEGIN:VEVENT
SUMMARY:Future Tech Pathways – CDU IT Insights &amp; Opportunities (Indonesia)
UID:23173424-c4d0-460a-a027-9b8a8c276789
DTSTART:20251126T023000Z
DTEND:20251126T033000Z
DTSTAMP:20251119T004250Z
LOCATION:Online
DESCRIPTION:Charles Darwin University invites Indonesian agent partners to a training webinar featuring academic and student insights into studying Information Technology at CDU and the associated career opportunities.
URL:https://www.cdu.edu.au/international/events/future-tech-pathways-%E2%80%93-cdu-it-insights-opportunities-indonesia
END:VEVENT
END:VCALENDAR
