BEGIN:VCALENDAR
VERSION:2.0
PRODID:-//Charles Darwin Events//EN
BEGIN:VEVENT
SUMMARY:CDU Programs, Scholarships &amp; Admissions Updates (Southeast Asia &amp; Mongolia)
UID:8b7ab84d-b81b-4f23-a0f7-18629970599c
DTSTART:20251125T030000Z
DTEND:20251125T040000Z
DTSTAMP:20251119T010423Z
LOCATION:Online
DESCRIPTION:Charles Darwin University invites partners across Southeast Asia and Mongolia to an online training session providing key updates on 2026 programs, scholarships, and admissions to support student recruitment.
URL:https://www.cdu.edu.au/international/events/cdu-programs-scholarships-admissions-updates-southeast-asia-mongolia
END:VEVENT
END:VCALENDAR
