BEGIN:VCALENDAR
VERSION:2.0
PRODID:-//Charles Darwin Events//EN
BEGIN:VEVENT
SUMMARY:NT Human Rights Awards 2025
UID:11cf9576-51ed-42f1-a7a0-5b71119c5c16
DTSTART:20251210T080000Z
DTEND:20251210T093000Z
DTSTAMP:20251127T035953Z
LOCATION:Community Learning Space, Ground Floor, CDU Danala Education and Community Precinct - 54 Cavenagh Street, Darwin CBD
DESCRIPTION:The annual NT Human Rights Awards 2025, organized by the NT Human Rights Steering Committee and hosted by the Northern Institute.
URL:https://www.cdu.edu.au/northern-institute/engage/northern-institute-events/nt-human-rights-awards-2025
END:VEVENT
END:VCALENDAR
