BEGIN:VCALENDAR
VERSION:2.0
PRODID:-//Charles Darwin Events//EN
BEGIN:VEVENT
SUMMARY:Thesis submission, examiner selection, examination &amp; resubmission process 
UID:c2d4a262-d5ed-49dc-ba05-1000bd713aed
DTSTART:20260326T233000Z
DTEND:20260327T013000Z
DTSTAMP:20260209T062129Z
LOCATION:In person &amp; online
DESCRIPTION:This workshop provides HDR candidates with a clear and practical overview of the thesis examination journey—from preparing your thesis for submission through to examiner selection, the review process, and responding to examiner feedback.
URL:https://www.cdu.edu.au/research-and-innovation/research-innovation-events/thesis-submission-examiner-selection-examination-resubmission-process
END:VEVENT
END:VCALENDAR
