BEGIN:VCALENDAR
VERSION:2.0
PRODID:-//Charles Darwin Events//EN
BEGIN:VEVENT
SUMMARY:Respect Month launch
UID:e1c6419e-df85-4062-9697-91ab0978df43
DTSTART:20260331T023000Z
DTEND:20260331T050000Z
DTSTAMP:20260311T230851Z
LOCATION:Danala Foyer and Interactive Learning Centre
DESCRIPTION:Charles Darwin University is hosting Respect Month throughout April, featuring a "Better Together" themed launch event that invites the entire campus community to help build a safer, more respectful university through guest speakers, activities, and a collective pledge.
URL:https://www.cdu.edu.au/events/respect-month-launch-0
END:VEVENT
END:VCALENDAR
