BEGIN:VCALENDAR
VERSION:2.0
PRODID:-//Charles Darwin Events//EN
BEGIN:VEVENT
SUMMARY:Respect Month Installation - Danala
UID:cb3147b5-c79a-4cb9-9145-5a19c40505bb
DTSTART:20260413T013000Z
DTEND:20260413T043000Z
DTSTAMP:20260311T234211Z
LOCATION:Danala Foyer
DESCRIPTION:The "Stronger Together" installation at Danala invites the university community to reflect on their shared responsibility in addressing gender-based violence by engaging with a student's story to learn how to better notice, respond to, and support those in need.
URL:https://www.cdu.edu.au/events/respect-month-installation-danala
END:VEVENT
END:VCALENDAR
