BEGIN:VCALENDAR
VERSION:2.0
PRODID:-//Charles Darwin Events//EN
BEGIN:VEVENT
SUMMARY:Respect Matters study night at Danala
UID:b2936537-30a5-44d8-88b4-d86207a490d4
DTSTART:20260415T070000Z
DTEND:20260415T090000Z
DTSTAMP:20260311T235125Z
LOCATION:Danala - Room 4.16
DESCRIPTION:Starting in 2026, all CDU students must complete the 90-minute Respect Matters online training covering consent and healthy relationships, with optional facilitated study sessions available to provide staff support and snacks while finishing the modules.
URL:https://www.cdu.edu.au/events/respect-matters-study-night-danala
END:VEVENT
END:VCALENDAR
