BEGIN:VCALENDAR
VERSION:2.0
PRODID:-//Charles Darwin Events//EN
BEGIN:VEVENT
SUMMARY:Respect Matters study day
UID:6f96e560-f298-429d-a9d1-0c8c32019d52
DTSTART:20260527T050000Z
DTEND:20260527T073000Z
DTSTAMP:20260312T000118Z
LOCATION:Casuarina Campus - Blue 2A.1.01
DESCRIPTION:Starting in 2026, all CDU students are required to complete the 90-minute Respect Matters online training on consent and healthy relationships, with staff-led study sessions available to provide guidance, support, and snacks.
URL:https://www.cdu.edu.au/events/respect-matters-study-day
END:VEVENT
END:VCALENDAR
